BEGIN:VCALENDAR
VERSION:2.0
PRODID:-//Pelican Intervention Fund - ECPv6.0.5//NONSGML v1.0//EN
CALSCALE:GREGORIAN
METHOD:PUBLISH
X-WR-CALNAME:Pelican Intervention Fund
X-ORIGINAL-URL:https://pelicaninterventionfund.org
X-WR-CALDESC:Events for Pelican Intervention Fund
REFRESH-INTERVAL;VALUE=DURATION:PT1H
X-Robots-Tag:noindex
X-PUBLISHED-TTL:PT1H
BEGIN:VTIMEZONE
TZID:UTC
BEGIN:STANDARD
TZOFFSETFROM:+0000
TZOFFSETTO:+0000
TZNAME:UTC
DTSTART:20160101T000000
END:STANDARD
END:VTIMEZONE
BEGIN:VEVENT
DTSTART;TZID=UTC:20160925T120000
DTEND;TZID=UTC:20160925T160000
DTSTAMP:20260424T202324
CREATED:20160909T182500Z
LAST-MODIFIED:20170209T000855Z
UID:120-1474804800-1474819200@pelicaninterventionfund.org
SUMMARY:2016 Chili Cook-Off with the Firefighters of Amesbury
DESCRIPTION:
URL:https://pelicaninterventionfund.org/event/2016-chili-cook-off-with-the-firefighters-of-amesbury/
LOCATION:Municipal parking lot in downtown Amesbury\, Amesbury\, MA\, United States
END:VEVENT
BEGIN:VEVENT
DTSTART;VALUE=DATE:20160924
DTEND;VALUE=DATE:20160926
DTSTAMP:20260424T202324
CREATED:20160909T182140Z
LAST-MODIFIED:20160909T182140Z
UID:116-1474675200-1474847999@pelicaninterventionfund.org
SUMMARY:50/50 Raffle at the  Vintage Bazaar
DESCRIPTION:
URL:https://pelicaninterventionfund.org/event/5050-raffle-at-the-vintage-bazaar/
LOCATION:Pettengill Farm\, 45 Ferry Road\, Salisbury\, MA\, United States
END:VEVENT
BEGIN:VEVENT
DTSTART;TZID=UTC:20160911T090000
DTEND;TZID=UTC:20160911T170000
DTSTAMP:20260424T202324
CREATED:20160909T181922Z
LAST-MODIFIED:20160909T181922Z
UID:112-1473584400-1473613200@pelicaninterventionfund.org
SUMMARY:Pancake Breakfast Fundraiser
DESCRIPTION:
URL:https://pelicaninterventionfund.org/event/pancake-breakfast-fundraiser/
LOCATION:Holy Redeemer Church\, 4 Green Street\, Merrimac\, MA\, United States
END:VEVENT
BEGIN:VEVENT
DTSTART;TZID=UTC:20160802T173000
DTEND;TZID=UTC:20160802T200000
DTSTAMP:20260424T202324
CREATED:20160725T172144Z
LAST-MODIFIED:20160725T172144Z
UID:90-1470159000-1470168000@pelicaninterventionfund.org
SUMMARY:Yankee Homecoming Bed Race
DESCRIPTION:Putting this one in so I have an example event for August.
URL:https://pelicaninterventionfund.org/event/yankee-homecoming-bed-race/
LOCATION:Newburyport Senior Center\, 331 High Street\, Newburyport\, MA\, 01950\, United States
END:VEVENT
BEGIN:VEVENT
DTSTART;TZID=UTC:20160730T080000
DTEND;TZID=UTC:20160730T170000
DTSTAMP:20260424T202324
CREATED:20160725T171555Z
LAST-MODIFIED:20160725T171555Z
UID:88-1469865600-1469898000@pelicaninterventionfund.org
SUMMARY:Example Event
DESCRIPTION:Here’s an event example. You can add a description to each event and even add an image.
URL:https://pelicaninterventionfund.org/event/example-event/
LOCATION:Spot for name of Venue\, 13 Venue Address\, Newburyport\, MA\, 01950\, United States
END:VEVENT
END:VCALENDAR