BEGIN:VCALENDAR
VERSION:2.0
PRODID:-//Pelican Intervention Fund - ECPv6.0.5//NONSGML v1.0//EN
CALSCALE:GREGORIAN
METHOD:PUBLISH
X-WR-CALNAME:Pelican Intervention Fund
X-ORIGINAL-URL:https://pelicaninterventionfund.org
X-WR-CALDESC:Events for Pelican Intervention Fund
REFRESH-INTERVAL;VALUE=DURATION:PT1H
X-Robots-Tag:noindex
X-PUBLISHED-TTL:PT1H
BEGIN:VTIMEZONE
TZID:UTC
BEGIN:STANDARD
TZOFFSETFROM:+0000
TZOFFSETTO:+0000
TZNAME:UTC
DTSTART:20160101T000000
END:STANDARD
END:VTIMEZONE
BEGIN:VEVENT
DTSTART;TZID=UTC:20180716T170000
DTEND;TZID=UTC:20180716T190000
DTSTAMP:20260424T201655
CREATED:20180723T232530Z
LAST-MODIFIED:20180723T232530Z
UID:437-1531760400-1531767600@pelicaninterventionfund.org
SUMMARY:The Deck  Salisbury
DESCRIPTION:20% of meals served during that time donated
URL:https://pelicaninterventionfund.org/event/the-deck-salisbury/
LOCATION:The Deck\, 179 Bridge Rd\, Salisbury\, MA\, 01952\, United States
END:VEVENT
BEGIN:VEVENT
DTSTART;TZID=UTC:20180509T120000
DTEND;TZID=UTC:20180509T160000
DTSTAMP:20260424T201655
CREATED:20180329T172420Z
LAST-MODIFIED:20180329T172420Z
UID:370-1525867200-1525881600@pelicaninterventionfund.org
SUMMARY:15th Annual Newburyport Chocolate Tour
DESCRIPTION:The 15th Annual Newburyport Chocolate Tour will be held Saturday\, May 19th\, from 12 to 4 p.m. in downtown Newburyport and the Tannery. Come take a walk around this beautiful town and into its unique shops and cafes while sampling tasty chocolate treats. Tickets are $15 per person when purchased in advance. Advance ticket sales can be purchased at the Chamber of Commerce in Newburyport\, The Brass Lyon on Inn Street in downtown Newburyport and at the Port Plums and the Newburyport Olive Oil Company in the Tannery on Water Street.\n\nTickets will be $20 on the day of the event. This wonderful event is sponsored by the Central Congregational Church of Neburyport with 100% of the proceeds going to benefit local organizations including Councils on Aging Prescription Refill\, MSPCA at Nevin’s Farm\, Lucy’s Love Bus and the Pelican Fund! With the purchase of a ticket you will receive a bag for your goodies you may want to keep for later as you meander your way around the shops of Newburyport all in good cheer\, good chocolate and for a good cause!
URL:https://pelicaninterventionfund.org/event/15th-annual-newburyport-chocolate-tour/
LOCATION:Downtown Newburyport\, State St.\, Newburyport\, MA\, 01950\, United States
END:VEVENT
BEGIN:VEVENT
DTSTART;TZID=UTC:20180429T130000
DTEND;TZID=UTC:20180429T150000
DTSTAMP:20260424T201655
CREATED:20180306T221038Z
LAST-MODIFIED:20180329T172822Z
UID:354-1525006800-1525014000@pelicaninterventionfund.org
SUMMARY:Annual Celebration of Hope Fundraiser
DESCRIPTION:
URL:https://pelicaninterventionfund.org/event/annual-fundraiser-and-testimonial-event/
LOCATION:Newburyport Senior Center\, 331 High Street\, Newburyport\, MA\, 01950\, United States
END:VEVENT
BEGIN:VEVENT
DTSTART;VALUE=DATE:20180416
DTEND;VALUE=DATE:20180417
DTSTAMP:20260424T201655
CREATED:20180329T174656Z
LAST-MODIFIED:20180329T174656Z
UID:380-1523836800-1523923199@pelicaninterventionfund.org
SUMMARY:Boston Marathon - James Kelcourse for PIF
DESCRIPTION:State Representative James Kelcourse will run the Boston Marathon to benefit the Pelican Intervention fund
URL:https://pelicaninterventionfund.org/event/boston-marathon-james-kelcourse-for-pif/
LOCATION:MA
END:VEVENT
BEGIN:VEVENT
DTSTART;TZID=UTC:20180317T200000
DTEND;TZID=UTC:20180317T220000
DTSTAMP:20260424T201655
CREATED:20180306T221918Z
LAST-MODIFIED:20180306T221918Z
UID:362-1521316800-1521324000@pelicaninterventionfund.org
SUMMARY:Performance: I Have This Friend
DESCRIPTION:I Have This Friend is an attempt to deal with the now widespread issue of addiction in all its forms.  The show was originally written by a group of Triton High School students in the 80’s\, and the stories and monologues that form the play are based on their friends’ or their own struggles with addiction.  We want to do as much as we can to raise awareness of the disease of addiction\, and to spread the message of how 12 step programs can save lives.  Directed by Anna Smulowitz\, Choreographed by Linda Zirin\, and performed by middle school and high school students from the area.  All ages welcome\, but adult language is used.
URL:https://pelicaninterventionfund.org/event/performance-i-have-this-friend-3/
LOCATION:Byfield Community Arts Center\, 7 Central St.\, Byfield\, MA\, 01922\, United States
END:VEVENT
BEGIN:VEVENT
DTSTART;TZID=UTC:20180317T030000
DTEND;TZID=UTC:20180317T170000
DTSTAMP:20260424T201655
CREATED:20180306T221806Z
LAST-MODIFIED:20180306T221806Z
UID:360-1521255600-1521306000@pelicaninterventionfund.org
SUMMARY:Performance: I Have This Friend
DESCRIPTION:I Have This Friend is an attempt to deal with the now widespread issue of addiction in all its forms.  The show was originally written by a group of Triton High School students in the 80’s\, and the stories and monologues that form the play are based on their friends’ or their own struggles with addiction.  We want to do as much as we can to raise awareness of the disease of addiction\, and to spread the message of how 12 step programs can save lives.  Directed by Anna Smulowitz\, Choreographed by Linda Zirin\, and performed by middle school and high school students from the area.  All ages welcome\, but adult language is used.
URL:https://pelicaninterventionfund.org/event/performance-i-have-this-friend-2/
LOCATION:Byfield Community Arts Center\, 7 Central St.\, Byfield\, MA\, 01922\, United States
END:VEVENT
BEGIN:VEVENT
DTSTART;TZID=UTC:20180316T190000
DTEND;TZID=UTC:20180316T210000
DTSTAMP:20260424T201655
CREATED:20180306T221626Z
LAST-MODIFIED:20180306T221642Z
UID:356-1521226800-1521234000@pelicaninterventionfund.org
SUMMARY:Performance: I Have This Friend
DESCRIPTION:I Have This Friend is an attempt to deal with the now widespread issue of addiction in all its forms.  The show was originally written by a group of Triton High School students in the 80’s\, and the stories and monologues that form the play are based on their friends’ or their own struggles with addiction.  We want to do as much as we can to raise awareness of the disease of addiction\, and to spread the message of how 12 step programs can save lives.  Directed by Anna Smulowitz\, Choreographed by Linda Zirin\, and performed by middle school and high school students from the area.  All ages welcome\, but adult language is used.
URL:https://pelicaninterventionfund.org/event/performance-i-have-this-friend/
LOCATION:Byfield Community Arts Center\, 7 Central St.\, Byfield\, MA\, 01922\, United States
END:VEVENT
BEGIN:VEVENT
DTSTART;VALUE=DATE:20171124
DTEND;VALUE=DATE:20171126
DTSTAMP:20260424T201655
CREATED:20171025T193657Z
LAST-MODIFIED:20171025T194244Z
UID:262-1511481600-1511654399@pelicaninterventionfund.org
SUMMARY:The Festival of  Wreaths and Trees
DESCRIPTION:You are invited to become part of the Old South First Presbyterian Church Festival of Wreaths and Trees held on November 24th-25th \,2017 at the Old South First Presbyterian Church in Newburyport.  This event is the perfect way to feature your business or organization in the community \nThis one and a-half day festival is open to the public and attendees will have the opportunity to walk through a dazzling maze of wreaths and trees as they kick off the holiday season with a choral premiere on Friday evening. Visitors will be able to purchase raffle tickets to win these wreaths and trees as well as other raffle items \nAll procedes from this event will go to the Pelican Intervention Fund which supports addiction recovery efforts in the community \nhttp://oldsouthnbpt.org/festivalofwreaths
URL:https://pelicaninterventionfund.org/event/the-festival-of-wreaths-and-trees/
LOCATION:Old South First Presbyterian Church\, 29 Federal Street\, Newburyport\, MA\, 01950\, United States
END:VEVENT
BEGIN:VEVENT
DTSTART;TZID=UTC:20170430T140000
DTEND;TZID=UTC:20170430T160000
DTSTAMP:20260424T201655
CREATED:20170214T005523Z
LAST-MODIFIED:20170214T010138Z
UID:196-1493560800-1493568000@pelicaninterventionfund.org
SUMMARY:Pelican Intervention Fund- Testimonial Event
DESCRIPTION:Sunday\, April 30th at the Newburyport Senior Center from 2:00 to 4:00pm \nCome hear inspirational stories of men and women who  have experienced the  journey from the depths of addiction to recovery \nA great opportunity to learn about the ongoing opiate crisis and programs available for help- There is  Hope! \nMusic and Refreshments will be served \nEveryone is welcome \nFor more information- call 978-992-8085
URL:https://pelicaninterventionfund.org/event/pelican-intervention-fund-testimonial-event/
LOCATION:Newburyport Senior Center\, 331 High Street\, Newburyport\, MA\, 01950\, United States
END:VEVENT
BEGIN:VEVENT
DTSTART;TZID=UTC:20170227T160000
DTEND;TZID=UTC:20170227T193000
DTSTAMP:20260424T201655
CREATED:20170214T003554Z
LAST-MODIFIED:20170214T003554Z
UID:182-1488211200-1488223800@pelicaninterventionfund.org
SUMMARY:Mardi Gras Celebration Event
DESCRIPTION:A Mardi Gras celebration  on Monday\, February 27th will be held at the Immaculate Conception Church Parish Hall . Dinner served in two seating: 4:00pm and 6:00pm options \nTickets ( $10 for Adults and $5 for Children- ages 5 and under are free) will benefit the Pelican Intervention Fund. The celebration will include traditional foods of New Orleans\, crafts\, raffles and more. \nEveryone is Welome \nCall 978-992-8085 for more information or to purchase tickets
URL:https://pelicaninterventionfund.org/event/mardi-gras-celebration-event/
LOCATION:Parish Hall at the Immaculate Conception Church- Newburyport\, 42 Green Street\, Newburyport\, MA\, 01950\, United States
END:VEVENT
BEGIN:VEVENT
DTSTART;TZID=UTC:20160925T120000
DTEND;TZID=UTC:20160925T160000
DTSTAMP:20260424T201655
CREATED:20160909T182500Z
LAST-MODIFIED:20170209T000855Z
UID:120-1474804800-1474819200@pelicaninterventionfund.org
SUMMARY:2016 Chili Cook-Off with the Firefighters of Amesbury
DESCRIPTION:
URL:https://pelicaninterventionfund.org/event/2016-chili-cook-off-with-the-firefighters-of-amesbury/
LOCATION:Municipal parking lot in downtown Amesbury\, Amesbury\, MA\, United States
END:VEVENT
BEGIN:VEVENT
DTSTART;VALUE=DATE:20160924
DTEND;VALUE=DATE:20160926
DTSTAMP:20260424T201655
CREATED:20160909T182140Z
LAST-MODIFIED:20160909T182140Z
UID:116-1474675200-1474847999@pelicaninterventionfund.org
SUMMARY:50/50 Raffle at the  Vintage Bazaar
DESCRIPTION:
URL:https://pelicaninterventionfund.org/event/5050-raffle-at-the-vintage-bazaar/
LOCATION:Pettengill Farm\, 45 Ferry Road\, Salisbury\, MA\, United States
END:VEVENT
BEGIN:VEVENT
DTSTART;TZID=UTC:20160911T090000
DTEND;TZID=UTC:20160911T170000
DTSTAMP:20260424T201655
CREATED:20160909T181922Z
LAST-MODIFIED:20160909T181922Z
UID:112-1473584400-1473613200@pelicaninterventionfund.org
SUMMARY:Pancake Breakfast Fundraiser
DESCRIPTION:
URL:https://pelicaninterventionfund.org/event/pancake-breakfast-fundraiser/
LOCATION:Holy Redeemer Church\, 4 Green Street\, Merrimac\, MA\, United States
END:VEVENT
BEGIN:VEVENT
DTSTART;TZID=UTC:20160802T173000
DTEND;TZID=UTC:20160802T200000
DTSTAMP:20260424T201655
CREATED:20160725T172144Z
LAST-MODIFIED:20160725T172144Z
UID:90-1470159000-1470168000@pelicaninterventionfund.org
SUMMARY:Yankee Homecoming Bed Race
DESCRIPTION:Putting this one in so I have an example event for August.
URL:https://pelicaninterventionfund.org/event/yankee-homecoming-bed-race/
LOCATION:Newburyport Senior Center\, 331 High Street\, Newburyport\, MA\, 01950\, United States
END:VEVENT
BEGIN:VEVENT
DTSTART;TZID=UTC:20160730T080000
DTEND;TZID=UTC:20160730T170000
DTSTAMP:20260424T201655
CREATED:20160725T171555Z
LAST-MODIFIED:20160725T171555Z
UID:88-1469865600-1469898000@pelicaninterventionfund.org
SUMMARY:Example Event
DESCRIPTION:Here’s an event example. You can add a description to each event and even add an image.
URL:https://pelicaninterventionfund.org/event/example-event/
LOCATION:Spot for name of Venue\, 13 Venue Address\, Newburyport\, MA\, 01950\, United States
END:VEVENT
END:VCALENDAR