BEGIN:VCALENDAR
VERSION:2.0
PRODID:-//Pelican Intervention Fund - ECPv6.0.5//NONSGML v1.0//EN
CALSCALE:GREGORIAN
METHOD:PUBLISH
X-ORIGINAL-URL:https://pelicaninterventionfund.org
X-WR-CALDESC:Events for Pelican Intervention Fund
REFRESH-INTERVAL;VALUE=DURATION:PT1H
X-Robots-Tag:noindex
X-PUBLISHED-TTL:PT1H
BEGIN:VTIMEZONE
TZID:America/New_York
BEGIN:DAYLIGHT
TZOFFSETFROM:-0500
TZOFFSETTO:-0400
TZNAME:EDT
DTSTART:20220313T070000
END:DAYLIGHT
BEGIN:STANDARD
TZOFFSETFROM:-0400
TZOFFSETTO:-0500
TZNAME:EST
DTSTART:20221106T060000
END:STANDARD
TZID:UTC
BEGIN:STANDARD
TZOFFSETFROM:+0000
TZOFFSETTO:+0000
TZNAME:UTC
DTSTART:20230101T000000
END:STANDARD
END:VTIMEZONE
BEGIN:VEVENT
DTSTART;TZID=America/New_York:20221023T100000
DTEND;TZID=America/New_York:20221023T140000
DTSTAMP:20260424T200608
CREATED:20220926T144536Z
LAST-MODIFIED:20220926T144614Z
UID:934-1666519200-1666533600@pelicaninterventionfund.org
SUMMARY:Cars for Charity Show
DESCRIPTION:Come support the Cars for Charity Show – Presented by the Solomon Fund\nCar enthusiasts! Come bring your car or come and see cars from all over the region from exotics\, collector\, vintage\, special\, muscle….we are gathering at the Cruiseport Gloucester on October 23\, 2022 from 10am – 2pm to enjoy sharing our autos but most important to donate to several local charities. \nWe will be raising money for Lifebridge\, Amirah\, North Shore Veterans\, Beverly Bootstraps\, The Pelican Fund – all great causes to help others in less fortunate situations. \nThere is no cost to attend for your car or as a spectator but we are asking for everyone to make a donation to the Solomon Fund that will pay all net proceeds to these charities. We will also have a raffle. \nContact Brad Small at bradsmall@solomonprivatewealth.com for more information
URL:https://pelicaninterventionfund.org/event/cars-for-charity-show/
LOCATION:Cruiseport Gloucester\, 6 Rowe Sq\, Gloucester\, MA\, 01930\, United States
END:VEVENT
BEGIN:VEVENT
DTSTART;TZID=UTC:20230806T104500
DTEND;TZID=UTC:20230806T120000
DTSTAMP:20260424T200608
CREATED:20230720T002218Z
LAST-MODIFIED:20230720T002218Z
UID:1217-1691318700-1691323200@pelicaninterventionfund.org
SUMMARY:Newburyport's Yankee Homecoming Parade
DESCRIPTION:JOIN US to walk in Newburyport’s Yankee Homecoming Parade! Last year over 100 marchers joined us in representing the Pelican Intervention Fund and this year we hope for even more! \nSunday August 6\, 2023 \nLineup @ 10:45 \nFamous Pizza to Bartlett Mall \nComfy Shoes \nBring individually wrapped candy to pass out if you like!
URL:https://pelicaninterventionfund.org/event/newburyports-yankee-homecoming-parade/
LOCATION:Famous Pizza Newburyport\, 2 Storey Ave\, Newburyport\, MA\, 01950\, United States
END:VEVENT
BEGIN:VEVENT
DTSTART;TZID=UTC:20231022T090000
DTEND;TZID=UTC:20231022T120000
DTSTAMP:20260424T200608
CREATED:20230921T235535Z
LAST-MODIFIED:20230921T235535Z
UID:1252-1697965200-1697976000@pelicaninterventionfund.org
SUMMARY:Cars for Charity Show - Presented by the Solomon Fund
DESCRIPTION:Car enthusiasts! Come bring your car or come and see cars from all over the region from exotics\, collector\, vintage\, special\, muscle….we are gathering at the Cruiseport Gloucester on October 22\, 2023 from 9am – 12pm to enjoy sharing our autos but most important to donate to several local charities. \nWe will be raising money for Lifebridge\, Amirah\, Beverly Bootstraps\, The Pelican Fund – all great causes to help others in less fortunate situations. \nThere is no cost to attend for your car or as a spectator but we are asking for everyone to make a donation to the Solomon Fund that will pay all net proceeds to these charities. We will also have a raffle. \nCruiseport Gloucester – 6 Rowe Sq. Gloucester\, MA 01930
URL:https://pelicaninterventionfund.org/event/cars-for-charity-show-presented-by-the-solomon-fund/
LOCATION:Cruiseport Gloucester\, 6 Rowe Sq\, Gloucester\, MA\, 01930\, United States
ORGANIZER;CN="Solomon%20Fund":MAILTO:bradsmall@solomonprivatewealth.com
END:VEVENT
BEGIN:VEVENT
DTSTART;VALUE=DATE:20231201
DTEND;VALUE=DATE:20240101
DTSTAMP:20260424T200608
CREATED:20231213T143528Z
LAST-MODIFIED:20231213T143951Z
UID:1318-1701388800-1704067199@pelicaninterventionfund.org
SUMMARY:The Pelican Intervention Fund  2023 Annual Appeal
DESCRIPTION:Dear Friends of the Pelican Intervention Fund\, \nWe are writing to express our gratitude for your past financial support. This year\, we funded 30 people into 12 Step residential sober living programs. This brings our total to 140 clients that you’ve helped support since our founding in 2015. \nYour donations allow us to continue our mission of supporting men and women struggling with addiction by funding them into residential 12 Step sober living programs. The need is greater than ever. \nAs you may know\, Federal\, State\, and private insurance companies only fund medically based treatment and won’t fund 12 Step faith-based programs. The crisis is getting worse. Last year in Massachusetts alone\, there were 2\,357 confirmed Opiate overdose deaths\, an all-time high in the Commonwealth. \nMone’ Cassier\, (Executive Director of Sober Sisters Recover\,) highlights the impact your donations make and the transformative changes these opportunities provide to those working toward sobriety\, their families\, and our community. \n“The Pelican Intervention Fund has provided 13 scholarships for women entering Sober Sisters Recovery at Malley Farms in Somersworth\, New Hampshire. SSR is a 12-step holistic abstinence based recovery home for women. \nThe Pelican Team have brought dinner to the farm on several occasions and gifts during the holidays. They have also helped at times of need when no one else has been there for our mission and women. They are part of the village that keeps SSR running smoothly. \nWe are blessed regularly by PIF. As the Executive Director \,I have relied on Kim and Steve as a sounding board when the road has gotten bumpy as staying true to the 12 step abstinence based model has not always been easy ( Insurance and Gov’t agencies only provide funding for medically based treatment) We have stuck together and as we continue into our 8th year of servicing women\, we are stronger than ever\, and part of that is due to our support from PIF.” – Mone’ \nIn the spirit of the Thanksgiving Season\, we thank you for your continued support. \nKim & Steve Keene \nThe Pelican Intervention Fund at ECCF\nChecks may be sent to: Essex County Community Foundation\n175 Andover Street | Danvers\, MA 01923 \nCredit Card donations can be made online at pelicaninterventionfund.org\nTax ID # 04-3407816
URL:https://pelicaninterventionfund.org/event/the-pelican-intervention-fund-2023-annual-appeal/
LOCATION:MA
END:VEVENT
BEGIN:VEVENT
DTSTART;TZID=UTC:20240428T090000
DTEND;TZID=UTC:20240428T120000
DTSTAMP:20260424T200608
CREATED:20240312T013854Z
LAST-MODIFIED:20240312T013854Z
UID:1370-1714294800-1714305600@pelicaninterventionfund.org
SUMMARY:Cars for Charity Show – Presented by the Solomon Fund
DESCRIPTION:Car enthusiasts! Come bring your car or come and see cars from all over the region from exotics\, collector\, vintage\, special\, muscle….we are gathering at the Cruiseport Gloucester on April 28\, 2024 from 9am – 12pm to enjoy sharing our autos but most important to donate to several local charities. \nWe will be raising money for Lifebridge\, Amirah\, Beverly Bootstraps\, The Pelican Fund – all great causes to help others in less fortunate situations. \nThere is no cost to attend for your car or as a spectator but we are asking for everyone to make a donation to the Solomon Fund that will pay all net proceeds to these charities. We will also have a raffle. \nContact Brad Small at bradsmall@solomonprivatewealth.com for more information \nCruiseport Gloucester – 6 Rowe Sq. Gloucester\, MA 01930
URL:https://pelicaninterventionfund.org/event/cars-for-charity-show-presented-by-the-solomon-fund-2/
LOCATION:Cruiseport Gloucester\, 6 Rowe Sq\, Gloucester\, MA\, 01930\, United States
END:VEVENT
END:VCALENDAR